0.084279757050
0.000000000000
0.000000000000
-0.084290673931
6487918.985030629672
5602181.127301717177
