0.127011007750
0.000000000000
0.000000000000
-0.127004490187
6490879.293132835999
5610236.481299843639
