0.13229165727161332
0
0
-0.13229165727161332
6492747.18744498305022717
5609787.66135417111217976
